Workbook
Name Kostenstelle: #REF!
Name Kostenstelle: #REF!
Name Kostenstelle: #REF!

Sheet Grundkalkulation
A1: Grundkalkulation
A2: Angebot-Nr.: | B2: 15-015407
A3: Projekt-Nr.: | D3: Preis/m² | E3: =ROUNDUP(E124/E10,0) -> #DIV/0! | F3: =ROUNDUP(F124/F10,0) -> #VALUE! | G3: =ROUNDUP(G124/G10,0) -> #VALUE! | H3: =ROUNDUP(H124/H10,0) -> #VALUE! | I3: =ROUNDUP(I124/I10,0) -> #VALUE! | J3: =ROUNDUP(J124/J10,0) -> #VALUE! | K3: =ROUNDUP(K124/K10,0) -> #VALUE! | L3: =ROUNDUP(L124/L10,0) -> #VALUE! | ... FM3: =ROUNDUP(FM124/FM10,0) -> #VALUE!
A4: Projektname: | B4: Dose, BV. Gotenstraße, HH
A5: Gewerk: | B5: Wartung
A6: Auftraggeber: | B6: Paul Dose | D6: Bezeichnung: | E6: Wartung Ventotherm-Lüfter
A7: Datum: | B7: 42144
A8: Kalkulation: | B8: Dieter Suhrke | D8: Breite / m
B9: =FN155 -> 7586.9 | D9: Höhe / m
D10: m² | E10: =E8*E9 -> 0 | F10: =F8*F9 -> 0 | G10: =G8*G9 -> 0 | H10: =H8*H9 -> 0 | I10: =I8*I9 -> 0 | J10: =J8*J9 -> 0 | K10: =K8*K9 -> 0 | L10: =L8*L9 -> 0 | ... FM10: =FM8*FM9 -> 0
B11: LV-Pos.-Nr. | C11: Kostenstelle | E11: 001 | F11: 2 | G11: 3 | H11: 4 | I11: 5 | J11: 6 | K11: 7 | L11: 8 | M11: 9 | N11: 10 | O11: 11 | P11: 12 | Q11: 13 | R11: 14 | S11: 15 | T11: 16 | U11: 17 | V11: 18 | W11: 19 | X11: 20 | Y11: 21 | Z11: 22 | AA11: 23 | AB11: 24 | AC11: 25 | AD11: 26 | AE11: 27 | AF11: 28 | AG11: 29 | AH11: 30 | AI11: 31 | AJ11: 32 | AK11: 33 | AL11: 34 | AM11: 35 | AN11: 36 | AO11: 37 | AP11: 38 | AQ11: 39 | AR11: 40 | AS11: 41 | AT11: 42 | AU11: 43 | AV11: 44 | AW11: 45 | AX11: 46 | AY11: 47 | AZ11: 48 | BA11: 49 | BB11: 50 | BC11: 51 | BD11: 52 | BE11: 53 | BF11: 54 | BG11: 55 | BH11: 56 | BI11: 57 | BJ11: 58 | BK11: 59 | BL11: 60 | BM11: 61 | BN11: 62 | BO11: 63 | BP11: 64 | BQ11: 65 | BR11: 66 | BS11: 67 | BT11: 68 | BU11: 69 | BV11: 70 | BW11: 71 | BX11: 72 | BY11: 73 | BZ11: 74 | CA11: 75 | CB11: 76 | CC11: 77 | CD11: 78 | CE11: 79 | CF11: 80 | CG11: 81 | CH11: 82 | CI11: 83 | CJ11: 84 | CK11: 85 | CL11: 86 | CM11: 87 | CN11: 88 | CO11: 89 | CP11: 90 | CQ11: 91 | CR11: 92 | CS11: 93 | CT11: 94 | CU11: 95 | CV11: 96 | CW11: 97 | CX11: 98 | CY11: 99 | CZ11: 100 | DA11: 101 | DB11: 102 | DC11: 103 | DD11: 104 | DE11: 105 | DF11: 106 | DG11: 107 | DH11: 108 | DI11: 109 | DJ11: 110 | DK11: 111 | DL11: 112 | DM11: 113 | DN11: 114 | DO11: 115 | DP11: 116 | DQ11: 117 | DR11: 118 | DS11: 119 | DT11: 120 | DU11: 121 | DV11: 122 | DW11: 123 | DX11: 124 | DY11: 125 | DZ11: 126 | EA11: 127 | EB11: 128 | EC11: 129 | ED11: 130 | EE11: 131 | EF11: 132 | EG11: 133 | EH11: 134 | EI11: 135 | EJ11: 136 | EK11: 137 | EL11: 138 | EM11: 139 | EN11: 140 | EO11: 141 | EP11: 142 | EQ11: 143 | ER11: 144 | ES11: 145 | ET11: 146 | EU11: 147 | EV11: 148 | EW11: 149 | EX11: 150 | EY11: 151 | EZ11: 152 | FA11: 153 | FB11: 154 | FC11: 155 | FD11: 156 | FE11: 157 | FF11: 158 | FG11: 159 | FH11: 160 | FI11: 161 | FJ11: 162 | FK11: 163 | FL11: 164 | FM11: 165
A13: 01-Profile
B14: Profile / Alu | C14: 12102
B15: Beschichtungfläche innen in m² | C15: -
B16: Beschichtungsfläche außen in m² | C16: -
B17: Beschichtung Preis/m² | C17: 22102 | D17: 5.86 | E17: =(E15+E16)*$D$17 -> 0 | F17: =(F15+F16)*$D$17 -> 0 | G17: =(G15+G16)*$D$17 -> 0 | H17: =(H15+H16)*$D$17 -> 0 | I17: =(I15+I16)*$D$17 -> 0 | J17: =(J15+J16)*$D$17 -> 0 | K17: =(K15+K16)*$D$17 -> 0 | L17: =(L15+L16)*$D$17 -> 0 | ... FM17: =(FM15+FM16)*$D$17 -> 0
B18: Gesamt Netto | E18: =E14+E17 -> 0 | F18: =F14+F17 -> 0 | G18: =G14+G17 -> 0 | H18: =H14+H17 -> 0 | I18: =I14+I17 -> 0 | J18: =J14+J17 -> 0 | K18: =K14+K17 -> 0 | L18: =L14+L17 -> 0 | ... FM18: =FM14+FM17 -> 0
B19: Aufschlag | D19: 0 | E19: =SUM(E18*$D$19) -> 0 | F19: =SUM(F18*$D$19) -> 0 | G19: =SUM(G18*$D$19) -> 0 | H19: =SUM(H18*$D$19) -> 0 | I19: =SUM(I18*$D$19) -> 0 | J19: =SUM(J18*$D$19) -> 0 | K19: =SUM(K18*$D$19) -> 0 | L19: =SUM(L18*$D$19) -> 0 | ... FM19: =SUM(FM18*$D$19) -> 0
B20: Summe Profile und Beschichtung | E20: =E18+E19 -> 0 | F20: =F18+F19 -> 0 | G20: =G18+G19 -> 0 | H20: =H18+H19 -> 0 | I20: =I18+I19 -> 0 | J20: =J18+J19 -> 0 | K20: =K18+K19 -> 0 | L20: =L18+L19 -> 0 | ... FM20: =FM18+FM19 -> 0
B22: Bleche / Stahl | C22: 10130
B23: Bleche / Alu | C23: 12122
B24: Blechanschlüsse bis 300 mm | C24: 12122 | D24: 0 | E24: =(E8+E9)*2*$D$24 -> 0 | F24: =(F8+F9)*2*$D$24 -> 0 | G24: =(G8+G9)*2*$D$24 -> 0 | H24: =(H8+H9)*2*$D$24 -> 0 | I24: =(I8+I9)*2*$D$24 -> 0 | J24: =(J8+J9)*2*$D$24 -> 0 | K24: =(K8+K9)*2*$D$24 -> 0 | L24: =(L8+L9)*2*$D$24 -> 0 | ... FM24: =(FM8+FM9)*2*$D$24 -> 0
B25: Blechanschlüsse bis 500 mm | C25: 12122 | D25: 0 | E25: =(E8+E9)*2*$D$25 -> 0 | F25: =(F8+F9)*2*$D$25 -> 0 | G25: =(G8+G9)*2*$D$25 -> 0 | H25: =(H8+H9)*2*$D$25 -> 0 | I25: =(I8+I9)*2*$D$25 -> 0 | J25: =(J8+J9)*2*$D$25 -> 0 | K25: =(K8+K9)*2*$D$25 -> 0 | L25: =(L8+L9)*2*$D$25 -> 0 | ... FM25: =(FM8+FM9)*2*$D$25 -> 0
B26: Profile / Stahl | C26: 10120
B27: Edelstahl | C27: 10140
B28: Gesamt Netto | E28: =SUM(E22:E27) -> 0 | F28: =SUM(F22:F27) -> 0 | G28: =SUM(G22:G27) -> 0 | H28: =SUM(H22:H27) -> 0 | I28: =SUM(I22:I27) -> 0 | J28: =SUM(J22:J27) -> 0 | K28: =SUM(K22:K27) -> 0 | L28: =SUM(L22:L27) -> 0 | ... FM28: =SUM(FM22:FM27) -> 0
B29: Aufschlag | D29: 0 | E29: =SUM(E28*$D$29) -> 0 | F29: =SUM(F28*$D$29) -> 0 | G29: =SUM(G28*$D$29) -> 0 | H29: =SUM(H28*$D$29) -> 0 | I29: =SUM(I28*$D$29) -> 0 | J29: =SUM(J28*$D$29) -> 0 | K29: =SUM(K28*$D$29) -> 0 | L29: =SUM(L28*$D$29) -> 0 | ... FM29: =SUM(FM28*$D$29) -> 0
B30: Summe Stahlzubehör/Anschlüsse | E30: =SUM(E28:E29) -> 0 | F30: =SUM(F28:F29) -> 0 | G30: =SUM(G28:G29) -> 0 | H30: =SUM(H28:H29) -> 0 | I30: =SUM(I28:I29) -> 0 | J30: =SUM(J28:J29) -> 0 | K30: =SUM(K28:K29) -> 0 | L30: =SUM(L28:L29) -> 0 | ... FM30: =SUM(FM28:FM29) -> 0
B31: Summe 01-Profile | C31: 90000 | E31: =E20+E30 -> 0 | F31: =F20+F30 -> 0 | G31: =G20+G30 -> 0 | H31: =H20+H30 -> 0 | I31: =I20+I30 -> 0 | J31: =J20+J30 -> 0 | K31: =K20+K30 -> 0 | L31: =L20+L30 -> 0 | ... FM31: =FM20+FM30 -> 0
A33: 02-Beschläge
B34: Beschläge | C34: 12142
B35: Profilzylinder | C35: 12212
B36: Sondermaterial | C36: 12142 | E36: =(214*17.49*0.8+54*2.45*0.8) -> 3100.128
B37: Gesamt Netto | E37: =SUM(E34:E36) -> 3100.128 | F37: =SUM(F34:F36) -> 0 | G37: =SUM(G34:G36) -> 0 | H37: =SUM(H34:H36) -> 0 | I37: =SUM(I34:I36) -> 0 | J37: =SUM(J34:J36) -> 0 | K37: =SUM(K34:K36) -> 0 | L37: =SUM(L34:L36) -> 0 | ... FM37: =SUM(FM34:FM36) -> 0
B38: Aufschlag | D38: 0 | E38: =SUM(E37*$D$38) -> 0 | F38: =SUM(F37*$D$38) -> 0 | G38: =SUM(G37*$D$38) -> 0 | H38: =SUM(H37*$D$38) -> 0 | I38: =SUM(I37*$D$38) -> 0 | J38: =SUM(J37*$D$38) -> 0 | K38: =SUM(K37*$D$38) -> 0 | L38: =SUM(L37*$D$38) -> 0 | ... FM38: =SUM(FM37*$D$38) -> 0
B39: Summe 02-Beschläge | C39: 90005 | E39: =SUM(E37:E38) -> 3100.128 | F39: =SUM(F37:F38) -> 0 | G39: =SUM(G37:G38) -> 0 | H39: =SUM(H37:H38) -> 0 | I39: =SUM(I37:I38) -> 0 | J39: =SUM(J37:J38) -> 0 | K39: =SUM(K37:K38) -> 0 | L39: =SUM(L37:L38) -> 0 | ... FM39: =SUM(FM37:FM38) -> 0
A41: 03-Glas
B42: Glas | C42: 12152
B43: Paneele | C43: 12162
B44: Tür-Füllungsplatten | C44: 12182
...

Sheet Nachtragskalkulation
A1: Nachtragskalkulation
A2: =Grundkalkulation!A2 -> Angebot-Nr.:
A3: =Grundkalkulation!A3 -> Projekt-Nr.: | B3: =Grundkalkulation!B3 -> 0 | D3: Preis/m² | E3: =ROUNDUP(E124/E10,0) -> #VALUE! | F3: =ROUNDUP(F124/F10,0) -> #VALUE! | G3: =ROUNDUP(G124/G10,0) -> #VALUE! | H3: =ROUNDUP(H124/H10,0) -> #VALUE! | I3: =ROUNDUP(I124/I10,0) -> #VALUE! | J3: =ROUNDUP(J124/J10,0) -> #VALUE! | K3: =ROUNDUP(K124/K10,0) -> #VALUE! | L3: =ROUNDUP(L124/L10,0) -> #VALUE! | ... FM3: =ROUNDUP(FM124/FM10,0) -> #VALUE!
A4: =Grundkalkulation!A4 -> Projektname: | B4: =Grundkalkulation!B4 -> Dose, BV. Gotenstraße, HH
A5: Gewerk: | B5: =Grundkalkulation!B5 -> Wartung
A6: =Grundkalkulation!A6 -> Auftraggeber: | B6: =Grundkalkulation!B6 -> Paul Dose | D6: Bezeichnung:
A7: =Grundkalkulation!A7 -> Datum:
A8: =Grundkalkulation!A8 -> Kalkulation: | D8: Breite / m
B9: =FN155 -> 0 | D9: Höhe / m
D10: m² | E10: =E8*E9 -> 0 | F10: =F8*F9 -> 0 | G10: =G8*G9 -> 0 | H10: =H8*H9 -> 0 | I10: =I8*I9 -> 0 | J10: =J8*J9 -> 0 | K10: =K8*K9 -> 0 | L10: =L8*L9 -> 0 | ... FM10: =FM8*FM9 -> 0
B11: LV-Pos.-Nr. | C11: Kostenstellen | E11: 1 | F11: 2 | G11: 3 | H11: 4 | I11: 5 | J11: 6 | K11: 7 | L11: 8 | M11: 9 | N11: 10 | O11: 11 | P11: 12 | Q11: 13 | R11: 14 | S11: 15 | T11: 16 | U11: 17 | V11: 18 | W11: 19 | X11: 20 | Y11: 21 | Z11: 22 | AA11: 23 | AB11: 24 | AC11: 25 | AD11: 26 | AE11: 27 | AF11: 28 | AG11: 29 | AH11: 30 | AI11: 31 | AJ11: 32 | AK11: 33 | AL11: 34 | AM11: 35 | AN11: 36 | AO11: 37 | AP11: 38 | AQ11: 39 | AR11: 40 | AS11: 41 | AT11: 42 | AU11: 43 | AV11: 44 | AW11: 45 | AX11: 46 | AY11: 47 | AZ11: 48 | BA11: 49 | BB11: 50 | BC11: 51 | BD11: 52 | BE11: 53 | BF11: 54 | BG11: 55 | BH11: 56 | BI11: 57 | BJ11: 58 | BK11: 59 | BL11: 60 | BM11: 61 | BN11: 62 | BO11: 63 | BP11: 64 | BQ11: 65 | BR11: 66 | BS11: 67 | BT11: 68 | BU11: 69 | BV11: 70 | BW11: 71 | BX11: 72 | BY11: 73 | BZ11: 74 | CA11: 75 | CB11: 76 | CC11: 77 | CD11: 78 | CE11: 79 | CF11: 80 | CG11: 81 | CH11: 82 | CI11: 83 | CJ11: 84 | CK11: 85 | CL11: 86 | CM11: 87 | CN11: 88 | CO11: 89 | CP11: 90 | CQ11: 91 | CR11: 92 | CS11: 93 | CT11: 94 | CU11: 95 | CV11: 96 | CW11: 97 | CX11: 98 | CY11: 99 | CZ11: 100 | DA11: 101 | DB11: 102 | DC11: 103 | DD11: 104 | DE11: 105 | DF11: 106 | DG11: 107 | DH11: 108 | DI11: 109 | DJ11: 110 | DK11: 111 | DL11: 112 | DM11: 113 | DN11: 114 | DO11: 115 | DP11: 116 | DQ11: 117 | DR11: 118 | DS11: 119 | DT11: 120 | DU11: 121 | DV11: 122 | DW11: 123 | DX11: 124 | DY11: 125 | DZ11: 126 | EA11: 127 | EB11: 128 | EC11: 129 | ED11: 130 | EE11: 131 | EF11: 132 | EG11: 133 | EH11: 134 | EI11: 135 | EJ11: 136 | EK11: 137 | EL11: 138 | EM11: 139 | EN11: 140 | EO11: 141 | EP11: 142 | EQ11: 143 | ER11: 144 | ES11: 145 | ET11: 146 | EU11: 147 | EV11: 148 | EW11: 149 | EX11: 150 | EY11: 151 | EZ11: 152 | FA11: 153 | FB11: 154 | FC11: 155 | FD11: 156 | FE11: 157 | FF11: 158 | FG11: 159 | FH11: 160 | FI11: 161 | FJ11: 162 | FK11: 163 | FL11: 164 | FM11: 165
A13: 01-Profile
B14: Profile / Alu | C14: 12102
B15: Beschichtungfläche innen in m² | C15: -
B16: Beschichtungsfläche außen in m² | C16: -
B17: Beschichtung Preis/m² | C17: 22102 | D17: 8.87 | E17: =(E15+E16)*$D$17 -> 0 | F17: =(F15+F16)*$D$17 -> 0 | G17: =(G15+G16)*$D$17 -> 0 | H17: =(H15+H16)*$D$17 -> 0 | I17: =(I15+I16)*$D$17 -> 0 | J17: =(J15+J16)*$D$17 -> 0 | K17: =(K15+K16)*$D$17 -> 0 | L17: =(L15+L16)*$D$17 -> 0 | ... FM17: =(FM15+FM16)*$D$17 -> 0
B18: Gesamt Netto | E18: =E14+E17 -> 0 | F18: =F14+F17 -> 0 | G18: =G14+G17 -> 0 | H18: =H14+H17 -> 0 | I18: =I14+I17 -> 0 | J18: =J14+J17 -> 0 | K18: =K14+K17 -> 0 | L18: =L14+L17 -> 0 | ... FM18: =FM14+FM17 -> 0
B19: Aufschlag | D19: 0.1 | E19: =SUM(E18*$D$19) -> 0 | F19: =SUM(F18*$D$19) -> 0 | G19: =SUM(G18*$D$19) -> 0 | H19: =SUM(H18*$D$19) -> 0 | I19: =SUM(I18*$D$19) -> 0 | J19: =SUM(J18*$D$19) -> 0 | K19: =SUM(K18*$D$19) -> 0 | L19: =SUM(L18*$D$19) -> 0 | ... FM19: =SUM(FM18*$D$19) -> 0
B20: Summe Profile und Beschichtung | E20: =E18+E19 -> 0 | F20: =F18+F19 -> 0 | G20: =G18+G19 -> 0 | H20: =H18+H19 -> 0 | I20: =I18+I19 -> 0 | J20: =J18+J19 -> 0 | K20: =K18+K19 -> 0 | L20: =L18+L19 -> 0 | ... FM20: =FM18+FM19 -> 0
B22: Bleche / Stahl | C22: 10130
B23: Bleche / Alu | C23: 12122
B24: Blechanschlüsse bis 300 mm | C24: 12122 | D24: 30 | E24: =(E8+E9)*2*$D$24 -> 0 | F24: =(F8+F9)*2*$D$24 -> 0 | G24: =(G8+G9)*2*$D$24 -> 0 | H24: =(H8+H9)*2*$D$24 -> 0 | I24: =(I8+I9)*2*$D$24 -> 0 | J24: =(J8+J9)*2*$D$24 -> 0 | K24: =(K8+K9)*2*$D$24 -> 0 | L24: =(L8+L9)*2*$D$24 -> 0 | ... FM24: =(FM8+FM9)*2*$D$24 -> 0
B25: Blechanschlüsse bis 500 mm | C25: 12122 | D25: 0 | E25: =(E8+E9)*2*$D$25 -> 0 | F25: =(F8+F9)*2*$D$25 -> 0 | G25: =(G8+G9)*2*$D$25 -> 0 | H25: =(H8+H9)*2*$D$25 -> 0 | I25: =(I8+I9)*2*$D$25 -> 0 | J25: =(J8+J9)*2*$D$25 -> 0 | K25: =(K8+K9)*2*$D$25 -> 0 | L25: =(L8+L9)*2*$D$25 -> 0 | ... FM25: =(FM8+FM9)*2*$D$25 -> 0
B26: Profile / Stahl | C26: 10120
B27: Edelstahl | C27: 10140
B28: Gesamt Netto | E28: =SUM(E22:E27) -> 0 | F28: =SUM(F22:F27) -> 0 | G28: =SUM(G22:G27) -> 0 | H28: =SUM(H22:H27) -> 0 | I28: =SUM(I22:I27) -> 0 | J28: =SUM(J22:J27) -> 0 | K28: =SUM(K22:K27) -> 0 | L28: =SUM(L22:L27) -> 0 | ... FM28: =SUM(FM22:FM27) -> 0
B29: Aufschlag | D29: 0.1 | E29: =SUM(E28*$D$29) -> 0 | F29: =SUM(F28*$D$29) -> 0 | G29: =SUM(G28*$D$29) -> 0 | H29: =SUM(H28*$D$29) -> 0 | I29: =SUM(I28*$D$29) -> 0 | J29: =SUM(J28*$D$29) -> 0 | K29: =SUM(K28*$D$29) -> 0 | L29: =SUM(L28*$D$29) -> 0 | ... FM29: =SUM(FM28*$D$29) -> 0
B30: Summe Stahlzubehör/Anschlüsse | E30: =SUM(E28:E29) -> 0 | F30: =SUM(F28:F29) -> 0 | G30: =SUM(G28:G29) -> 0 | H30: =SUM(H28:H29) -> 0 | I30: =SUM(I28:I29) -> 0 | J30: =SUM(J28:J29) -> 0 | K30: =SUM(K28:K29) -> 0 | L30: =SUM(L28:L29) -> 0 | ... FM30: =SUM(FM28:FM29) -> 0
B31: Summe 01-Profile | C31: 90000 | E31: =E20+E30 -> 0 | F31: =F20+F30 -> 0 | G31: =G20+G30 -> 0 | H31: =H20+H30 -> 0 | I31: =I20+I30 -> 0 | J31: =J20+J30 -> 0 | K31: =K20+K30 -> 0 | L31: =L20+L30 -> 0 | ... FM31: =FM20+FM30 -> 0
A33: 02-Beschläge
B34: Beschläge | C34: 12142
B35: Profilzylinder | C35: 12212
B36: Sondermaterial | C36: 12142
B37: Gesamt Netto | E37: =SUM(E34:E36) -> 0 | F37: =SUM(F34:F36) -> 0 | G37: =SUM(G34:G36) -> 0 | H37: =SUM(H34:H36) -> 0 | I37: =SUM(I34:I36) -> 0 | J37: =SUM(J34:J36) -> 0 | K37: =SUM(K34:K36) -> 0 | L37: =SUM(L34:L36) -> 0 | ... FM37: =SUM(FM34:FM36) -> 0
B38: Aufschlag | D38: 0.1 | E38: =SUM(E37*$D$38) -> 0 | F38: =SUM(F37*$D$38) -> 0 | G38: =SUM(G37*$D$38) -> 0 | H38: =SUM(H37*$D$38) -> 0 | I38: =SUM(I37*$D$38) -> 0 | J38: =SUM(J37*$D$38) -> 0 | K38: =SUM(K37*$D$38) -> 0 | L38: =SUM(L37*$D$38) -> 0 | ... FM38: =SUM(FM37*$D$38) -> 0
B39: Summe 02-Beschläge | C39: 90005 | E39: =SUM(E37:E38) -> 0 | F39: =SUM(F37:F38) -> 0 | G39: =SUM(G37:G38) -> 0 | H39: =SUM(H37:H38) -> 0 | I39: =SUM(I37:I38) -> 0 | J39: =SUM(J37:J38) -> 0 | K39: =SUM(K37:K38) -> 0 | L39: =SUM(L37:L38) -> 0 | ... FM39: =SUM(FM37:FM38) -> 0
A41: 03-Glas
B42: Glas | C42: 12152
B43: Paneele | C43: 12162
B44: Tür-Füllungsplatten | C44: 12182
...

Sheet LV-Zusammenstellung
A6: LV-Zusammenstellung
A7: =Grundkalkulation!A2 -> Angebot-Nr.: | B7: =Grundkalkulation!B2 -> 15-015407
A8: =Grundkalkulation!A4 -> Projektname: | B8: =Grundkalkulation!B4 -> Dose, BV. Gotenstraße, HH
A9: =Grundkalkulation!A5 -> Gewerk: | B9: =Grundkalkulation!B5 -> Wartung
E11: Datum: | F11: =Grundkalkulation!B7 -> 42144
E12: Kalkulation: | F12: =Grundkalkulation!B8 -> Dieter Suhrke
A14: Pos.: | B14: Anzahl / Menge | C14: Bezeichnung | E14: Einzelpreis | F14: Gesamtpreis
A15: =Grundkalkulation!E11 -> 001 | B15: =Grundkalkulation!E128 -> 1 | C15: =Grundkalkulation!E$6 -> Wartung Ventotherm-Lüfter | E15: =Grundkalkulation!E$124 -> 7586.9 | F15: =Grundkalkulation!E$130 -> 7586.9
A16: =Grundkalkulation!F11 -> 2 | B16: =Grundkalkulation!F128 -> 0 | C16: =Grundkalkulation!F$6 -> 0 | E16: =Grundkalkulation!F$124 -> #VALUE! | F16: =Grundkalkulation!F$130
A17: =Grundkalkulation!G11 -> 3 | B17: =Grundkalkulation!G128 -> 0 | C17: =Grundkalkulation!G$6 -> 0 | E17: =Grundkalkulation!G$124 -> #VALUE! | F17: =Grundkalkulation!G$130
A18: =Grundkalkulation!H11 -> 4 | B18: =Grundkalkulation!H128 -> 0 | C18: =Grundkalkulation!H$6 -> 0 | E18: =Grundkalkulation!H$124 -> #VALUE! | F18: =Grundkalkulation!H$130
A19: =Grundkalkulation!I11 -> 5 | B19: =Grundkalkulation!I128 -> 0 | C19: =Grundkalkulation!I$6 -> 0 | E19: =Grundkalkulation!I$124 -> #VALUE! | F19: =Grundkalkulation!I$130
A20: =Grundkalkulation!J11 -> 6 | B20: =Grundkalkulation!J128 -> 0 | C20: =Grundkalkulation!J$6 -> 0 | E20: =Grundkalkulation!J$124 -> #VALUE! | F20: =Grundkalkulation!J$130
A21: =Grundkalkulation!K11 -> 7 | B21: =Grundkalkulation!K128 -> 0 | C21: =Grundkalkulation!K$6 -> 0 | E21: =Grundkalkulation!K$124 -> #VALUE! | F21: =Grundkalkulation!K$130
A22: =Grundkalkulation!L11 -> 8 | B22: =Grundkalkulation!L128 -> 0 | C22: =Grundkalkulation!L$6 -> 0 | E22: =Grundkalkulation!L$124 -> #VALUE! | F22: =Grundkalkulation!L$130
A23: =Grundkalkulation!M11 -> 9 | B23: =Grundkalkulation!M128 -> 0 | C23: =Grundkalkulation!M$6 -> 0 | E23: =Grundkalkulation!M$124 -> #VALUE! | F23: =Grundkalkulation!M$130
A24: =Grundkalkulation!N11 -> 10 | B24: =Grundkalkulation!N128 -> 0 | C24: =Grundkalkulation!N$6 -> 0 | E24: =Grundkalkulation!N$124 -> #VALUE! | F24: =Grundkalkulation!N$130
A25: =Grundkalkulation!O11 -> 11 | B25: =Grundkalkulation!O128 -> 0 | C25: =Grundkalkulation!O$6 -> 0 | E25: =Grundkalkulation!O$124 -> #VALUE! | F25: =Grundkalkulation!O$130
A26: =Grundkalkulation!P11 -> 12 | B26: =Grundkalkulation!P128 -> 0 | C26: =Grundkalkulation!P$6 -> 0 | E26: =Grundkalkulation!P$124 -> #VALUE! | F26: =Grundkalkulation!P$130
A27: =Grundkalkulation!Q11 -> 13 | B27: =Grundkalkulation!Q128 -> 0 | C27: =Grundkalkulation!Q$6 -> 0 | E27: =Grundkalkulation!Q$124 -> #VALUE! | F27: =Grundkalkulation!Q$130
A28: =Grundkalkulation!R11 -> 14 | B28: =Grundkalkulation!R128 -> 0 | C28: =Grundkalkulation!R$6 -> 0 | E28: =Grundkalkulation!R$124 -> #VALUE! | F28: =Grundkalkulation!R$130
A29: =Grundkalkulation!S11 -> 15 | B29: =Grundkalkulation!S128 -> 0 | C29: =Grundkalkulation!S$6 -> 0 | E29: =Grundkalkulation!S$124 -> #VALUE! | F29: =Grundkalkulation!S$130
A30: =Grundkalkulation!T11 -> 16 | B30: =Grundkalkulation!T128 -> 0 | C30: =Grundkalkulation!T$6 -> 0 | E30: =Grundkalkulation!T$124 -> #VALUE! | F30: =Grundkalkulation!T$130
A31: =Grundkalkulation!U11 -> 17 | B31: =Grundkalkulation!U128 -> 0 | C31: =Grundkalkulation!U$6 -> 0 | E31: =Grundkalkulation!U$124 -> #VALUE! | F31: =Grundkalkulation!U$130
A32: =Grundkalkulation!V11 -> 18 | B32: =Grundkalkulation!V128 -> 0 | C32: =Grundkalkulation!V$6 -> 0 | E32: =Grundkalkulation!V$124 -> #VALUE! | F32: =Grundkalkulation!V$130
A33: =Grundkalkulation!W11 -> 19 | B33: =Grundkalkulation!W128 -> 0 | C33: =Grundkalkulation!W$6 -> 0 | E33: =Grundkalkulation!W$124 -> #VALUE! | F33: =Grundkalkulation!W$130
A34: =Grundkalkulation!X11 -> 20 | B34: =Grundkalkulation!X128 -> 0 | C34: =Grundkalkulation!X$6 -> 0 | E34: =Grundkalkulation!X$124 -> #VALUE! | F34: =Grundkalkulation!X$130
A35: =Grundkalkulation!Y11 -> 21 | B35: =Grundkalkulation!Y128 -> 0 | C35: =Grundkalkulation!Y$6 -> 0 | E35: =Grundkalkulation!Y$124 -> #VALUE! | F35: =Grundkalkulation!Y$130
A36: =Grundkalkulation!Z11 -> 22 | B36: =Grundkalkulation!Z128 -> 0 | C36: =Grundkalkulation!Z$6 -> 0 | E36: =Grundkalkulation!Z$124 -> #VALUE! | F36: =Grundkalkulation!Z$130
A37: =Grundkalkulation!AA11 -> 23 | B37: =Grundkalkulation!AA128 -> 0 | C37: =Grundkalkulation!AA$6 -> 0 | E37: =Grundkalkulation!AA$124 -> #VALUE! | F37: =Grundkalkulation!AA$130
A38: =Grundkalkulation!AB$11 -> 24 | B38: =Grundkalkulation!AB$128 -> 0 | C38: =Grundkalkulation!AB$6 -> 0 | E38: =Grundkalkulation!AB$124 -> #VALUE! | F38: =Grundkalkulation!AB$130
A39: =Grundkalkulation!AC$11 -> 25 | B39: =Grundkalkulation!AC$128 -> 0 | C39: =Grundkalkulation!AC$6 -> 0 | E39: =Grundkalkulation!AC$124 -> #VALUE! | F39: =Grundkalkulation!AC$130
A40: =Grundkalkulation!AD$11 -> 26 | B40: =Grundkalkulation!AD$128 -> 0 | C40: =Grundkalkulation!AD$6 -> 0 | E40: =Grundkalkulation!AD$124 -> #VALUE! | F40: =Grundkalkulation!AD$130
A41: =Grundkalkulation!AE$11 -> 27 | B41: =Grundkalkulation!AE$128 -> 0 | C41: =Grundkalkulation!AE$6 -> 0 | E41: =Grundkalkulation!AE$124 -> #VALUE! | F41: =Grundkalkulation!AE$130
A42: =Grundkalkulation!AF$11 -> 28 | B42: =Grundkalkulation!AF$128 -> 0 | C42: =Grundkalkulation!AF$6 -> 0 | E42: =Grundkalkulation!AF$124 -> #VALUE! | F42: =Grundkalkulation!AF$130
A43: =Grundkalkulation!AG$11 -> 29 | B43: =Grundkalkulation!AG$128 -> 0 | C43: =Grundkalkulation!AG$6 -> 0 | E43: =Grundkalkulation!AG$124 -> #VALUE! | F43: =Grundkalkulation!AG$130
A44: =Grundkalkulation!AH$11 -> 30 | B44: =Grundkalkulation!AH$128 -> 0 | C44: =Grundkalkulation!AH$6 -> 0 | E44: =Grundkalkulation!AH$124 -> #VALUE! | F44: =Grundkalkulation!AH$130
A45: =Grundkalkulation!AI$11 -> 31 | B45: =Grundkalkulation!AI$128 -> 0 | C45: =Grundkalkulation!AI$6 -> 0 | E45: =Grundkalkulation!AI$124 -> #VALUE! | F45: =Grundkalkulation!AI$130
A46: =Grundkalkulation!AJ$11 -> 32 | B46: =Grundkalkulation!AJ$128 -> 0 | C46: =Grundkalkulation!AJ$6 -> 0 | E46: =Grundkalkulation!AJ$124 -> #VALUE! | F46: =Grundkalkulation!AJ$130
A47: =Grundkalkulation!AK$11 -> 33 | B47: =Grundkalkulation!AK$128 -> 0 | C47: =Grundkalkulation!AK$6 -> 0 | E47: =Grundkalkulation!AK$124 -> #VALUE! | F47: =Grundkalkulation!AK$130
...

Sheet LV-Zusammenstellung Nachtrag
A6: LV-Zusammenstellung Nachtrag
A7: =Grundkalkulation!A2 -> Angebot-Nr.: | B7: =Grundkalkulation!B2 -> 15-015407
A8: =Grundkalkulation!A3 -> Projekt-Nr.: | B8: =Grundkalkulation!B3 -> 0
A9: =Grundkalkulation!A4 -> Projektname: | B9: =Grundkalkulation!B4 -> Dose, BV. Gotenstraße, HH
A10: =Grundkalkulation!A5 -> Gewerk: | B10: =Grundkalkulation!B5 -> Wartung
E12: Datum: | F12: =Nachtragskalkulation!B7 -> 0
E13: Kalkulation: | F13: =Nachtragskalkulation!B8 -> 0
A15: Pos.: | B15: Anzahl / Menge | C15: Bezeichnung | E15: Einzelpreis | F15: Gesamtpreis
A17: =Nachtragskalkulation!E$11 -> 1 | B17: =Nachtragskalkulation!E$128 -> 0 | C17: =Nachtragskalkulation!E$6 -> 0 | E17: =Nachtragskalkulation!E$124 -> #VALUE! | F17: =Nachtragskalkulation!E$130
A18: =Nachtragskalkulation!F$11 -> 2 | B18: =Nachtragskalkulation!F$128 -> 0 | C18: =Nachtragskalkulation!F$6 -> 0 | E18: =Nachtragskalkulation!F$124 -> #VALUE! | F18: =Nachtragskalkulation!F$130
A19: =Nachtragskalkulation!G$11 -> 3 | B19: =Nachtragskalkulation!G$128 -> 0 | C19: =Nachtragskalkulation!G$6 -> 0 | E19: =Nachtragskalkulation!G$124 -> #VALUE! | F19: =Nachtragskalkulation!G$130
A20: =Nachtragskalkulation!H$11 -> 4 | B20: =Nachtragskalkulation!H$128 -> 0 | C20: =Nachtragskalkulation!H$6 -> 0 | E20: =Nachtragskalkulation!H$124 -> #VALUE! | F20: =Nachtragskalkulation!H$130
A21: =Nachtragskalkulation!I$11 -> 5 | B21: =Nachtragskalkulation!I$128 -> 0 | C21: =Nachtragskalkulation!I$6 -> 0 | E21: =Nachtragskalkulation!I$124 -> #VALUE! | F21: =Nachtragskalkulation!I$130
A22: =Nachtragskalkulation!J$11 -> 6 | B22: =Nachtragskalkulation!J$128 -> 0 | C22: =Nachtragskalkulation!J$6 -> 0 | E22: =Nachtragskalkulation!J$124 -> #VALUE! | F22: =Nachtragskalkulation!J$130
A23: =Nachtragskalkulation!K$11 -> 7 | B23: =Nachtragskalkulation!K$128 -> 0 | C23: =Nachtragskalkulation!K$6 -> 0 | E23: =Nachtragskalkulation!K$124 -> #VALUE! | F23: =Nachtragskalkulation!K$130
A24: =Nachtragskalkulation!L$11 -> 8 | B24: =Nachtragskalkulation!L$128 -> 0 | C24: =Nachtragskalkulation!L$6 -> 0 | E24: =Nachtragskalkulation!L$124 -> #VALUE! | F24: =Nachtragskalkulation!L$130
A25: =Nachtragskalkulation!M$11 -> 9 | B25: =Nachtragskalkulation!M$128 -> 0 | C25: =Nachtragskalkulation!M$6 -> 0 | E25: =Nachtragskalkulation!M$124 -> #VALUE! | F25: =Nachtragskalkulation!M$130
A26: =Nachtragskalkulation!N$11 -> 10 | B26: =Nachtragskalkulation!N$128 -> 0 | C26: =Nachtragskalkulation!N$6 -> 0 | E26: =Nachtragskalkulation!N$124 -> #VALUE! | F26: =Nachtragskalkulation!N$130
A27: =Nachtragskalkulation!O$11 -> 11 | B27: =Nachtragskalkulation!O$128 -> 0 | C27: =Nachtragskalkulation!O$6 -> 0 | E27: =Nachtragskalkulation!O$124 -> #VALUE! | F27: =Nachtragskalkulation!O$130
A28: =Nachtragskalkulation!P$11 -> 12 | B28: =Nachtragskalkulation!P$128 -> 0 | C28: =Nachtragskalkulation!P$6 -> 0 | E28: =Nachtragskalkulation!P$124 -> #VALUE! | F28: =Nachtragskalkulation!P$130
A29: =Nachtragskalkulation!Q$11 -> 13 | B29: =Nachtragskalkulation!Q$128 -> 0 | C29: =Nachtragskalkulation!Q$6 -> 0 | E29: =Nachtragskalkulation!Q$124 -> #VALUE! | F29: =Nachtragskalkulation!Q$130
A30: =Nachtragskalkulation!R$11 -> 14 | B30: =Nachtragskalkulation!R$128 -> 0 | C30: =Nachtragskalkulation!R$6 -> 0 | E30: =Nachtragskalkulation!R$124 -> #VALUE! | F30: =Nachtragskalkulation!R$130
A31: =Nachtragskalkulation!S$11 -> 15 | B31: =Nachtragskalkulation!S$128 -> 0 | C31: =Nachtragskalkulation!S$6 -> 0 | E31: =Nachtragskalkulation!S$124 -> #VALUE! | F31: =Nachtragskalkulation!S$130
A32: =Nachtragskalkulation!T$11 -> 16 | B32: =Nachtragskalkulation!T$128 -> 0 | C32: =Nachtragskalkulation!T$6 -> 0 | E32: =Nachtragskalkulation!T$124 -> #VALUE! | F32: =Nachtragskalkulation!T$130
A33: =Nachtragskalkulation!U$11 -> 17 | B33: =Nachtragskalkulation!U$128 -> 0 | C33: =Nachtragskalkulation!U$6 -> 0 | E33: =Nachtragskalkulation!U$124 -> #VALUE! | F33: =Nachtragskalkulation!U$130
A34: =Nachtragskalkulation!V$11 -> 18 | B34: =Nachtragskalkulation!V$128 -> 0 | C34: =Nachtragskalkulation!V$6 -> 0 | E34: =Nachtragskalkulation!V$124 -> #VALUE! | F34: =Nachtragskalkulation!V$130
A35: =Nachtragskalkulation!W$11 -> 19 | B35: =Nachtragskalkulation!W$128 -> 0 | C35: =Nachtragskalkulation!W$6 -> 0 | E35: =Nachtragskalkulation!W$124 -> #VALUE! | F35: =Nachtragskalkulation!W$130
A36: =Nachtragskalkulation!X$11 -> 20 | B36: =Nachtragskalkulation!X$128 -> 0 | C36: =Nachtragskalkulation!X$6 -> 0 | E36: =Nachtragskalkulation!X$124 -> #VALUE! | F36: =Nachtragskalkulation!X$130
A37: =Nachtragskalkulation!Y$11 -> 21 | B37: =Nachtragskalkulation!Y$128 -> 0 | C37: =Nachtragskalkulation!Y$6 -> 0 | E37: =Nachtragskalkulation!Y$124 -> #VALUE! | F37: =Nachtragskalkulation!Y$130
A38: =Nachtragskalkulation!Z$11 -> 22 | B38: =Nachtragskalkulation!Z$128 -> 0 | C38: =Nachtragskalkulation!Z$6 -> 0 | E38: =Nachtragskalkulation!Z$124 -> #VALUE! | F38: =Nachtragskalkulation!Z$130
A39: =Nachtragskalkulation!AA$11 -> 23 | B39: =Nachtragskalkulation!AA$128 -> 0 | C39: =Nachtragskalkulation!AA$6 -> 0 | E39: =Nachtragskalkulation!AA$124 -> #VALUE! | F39: =Nachtragskalkulation!AA$130
A40: =Nachtragskalkulation!AB$11 -> 24 | B40: =Nachtragskalkulation!AB$128 -> 0 | C40: =Nachtragskalkulation!AB$6 -> 0 | E40: =Nachtragskalkulation!AB$124 -> #VALUE! | F40: =Nachtragskalkulation!AB$130
A41: =Nachtragskalkulation!AC$11 -> 25 | B41: =Nachtragskalkulation!AC$128 -> 0 | C41: =Nachtragskalkulation!AC$6 -> 0 | E41: =Nachtragskalkulation!AC$124 -> #VALUE! | F41: =Nachtragskalkulation!AC$130
A42: =Nachtragskalkulation!AD$11 -> 26 | B42: =Nachtragskalkulation!AD$128 -> 0 | C42: =Nachtragskalkulation!AD$6 -> 0 | E42: =Nachtragskalkulation!AD$124 -> #VALUE! | F42: =Nachtragskalkulation!AD$130
A43: =Nachtragskalkulation!AE$11 -> 27 | B43: =Nachtragskalkulation!AE$128 -> 0 | C43: =Nachtragskalkulation!AE$6 -> 0 | E43: =Nachtragskalkulation!AE$124 -> #VALUE! | F43: =Nachtragskalkulation!AE$130
A44: =Nachtragskalkulation!AF$11 -> 28 | B44: =Nachtragskalkulation!AF$128 -> 0 | C44: =Nachtragskalkulation!AF$6 -> 0 | E44: =Nachtragskalkulation!AF$124 -> #VALUE! | F44: =Nachtragskalkulation!AF$130
A45: =Nachtragskalkulation!AG$11 -> 29 | B45: =Nachtragskalkulation!AG$128 -> 0 | C45: =Nachtragskalkulation!AG$6 -> 0 | E45: =Nachtragskalkulation!AG$124 -> #VALUE! | F45: =Nachtragskalkulation!AG$130
A46: =Nachtragskalkulation!AH$11 -> 30 | B46: =Nachtragskalkulation!AH$128 -> 0 | C46: =Nachtragskalkulation!AH$6 -> 0 | E46: =Nachtragskalkulation!AH$124 -> #VALUE! | F46: =Nachtragskalkulation!AH$130
A47: =Nachtragskalkulation!AI$11 -> 31 | B47: =Nachtragskalkulation!AI$128 -> 0 | C47: =Nachtragskalkulation!AI$6 -> 0 | E47: =Nachtragskalkulation!AI$124 -> #VALUE! | F47: =Nachtragskalkulation!AI$130
A48: =Nachtragskalkulation!AJ$11 -> 32 | B48: =Nachtragskalkulation!AJ$128 -> 0 | C48: =Nachtragskalkulation!AJ$6 -> 0 | E48: =Nachtragskalkulation!AJ$124 -> #VALUE! | F48: =Nachtragskalkulation!AJ$130
...

Sheet Kalkulationsextrakt
A2: Kalkulationsextrakt
A3: =Grundkalkulation!A2 -> Angebot-Nr.: | B3: =Grundkalkulation!B2 -> 15-015407
A4: =Grundkalkulation!A3 -> Projekt-Nr.: | B4: =Grundkalkulation!B3 -> 0
A5: =Grundkalkulation!A4 -> Projektname: | B5: =Grundkalkulation!B4 -> Dose, BV. Gotenstraße, HH
A6: =Grundkalkulation!A5 -> Gewerk: | B6: =Grundkalkulation!B5 -> Wartung | H6: Materialkosten | I6: =J6/J29 -> 0.49535923 | J6: =SUM(J13:J20) -> 3758.2409 | M6: =(J6+L7)/P29 -> 0.49535923
A7: =Grundkalkulation!A6 -> Auftraggeber: | B7: =Grundkalkulation!B6 -> Paul Dose | H7: Gesamtnachlass Mat. | J7: 0 | L7: =SUM(L13:L20) -> 0
A8: =Grundkalkulation!A7 -> Datum: | B8: =Grundkalkulation!B7 -> 42144 | H8: Risiko+Gewinn | I8: =J8/J29 -> 0.13457131 | J8: =J31 -> 1020.9791 | K8: =L8/P29 -> 0.13457131 | L8: =J31+L31 -> 1020.9791
A9: =Grundkalkulation!A8 -> Kalkulation: | B9: =Grundkalkulation!B8 -> Dieter Suhrke
C10: Stundenverrechnungssatz | D10: Grundkalkulation | F10: Nachtragskalkulation
D11: Stunden | E11: Summe | F11: Stunden | G11: Summe | H11: Gesamt-stunden | J11: Kalkulations-werte | L11: Abschläge | N11: Std.-satz Promet | O11: Budget-stunden | P11: Budget
A13: Summe 01 - Profile | E13: =Grundkalkulation!FN133 -> 0 | G13: =Nachtragskalkulation!FN133 -> 0 | J13: =E13+G13 -> 0 | L13: =J13*M13 -> 0 | M13: 0 | P13: =J13+L13 -> 0
A14: Summe 02 - Beschläge | E14: =Grundkalkulation!FN134 -> 3100.128 | G14: =Nachtragskalkulation!FN134 -> 0 | J14: =E14+G14 -> 3100.128 | L14: =J14*M14 -> 0 | M14: 0 | P14: =J14+L14 -> 3100.128
A15: Summe 03 - Glas | E15: =Grundkalkulation!FN135 -> 0 | G15: =Nachtragskalkulation!FN135 -> 0 | J15: =E15+G15 -> 0 | L15: =J15*M15 -> 0 | M15: 0 | P15: =J15+L15 -> 0
A16: Summe 04 - Zusatzmaterial | E16: =Grundkalkulation!FN136 -> 505.04 | G16: =Nachtragskalkulation!FN136 -> 0 | J16: =E16+G16 -> 505.04 | L16: =J16*M16 -> 0 | M16: 0 | P16: =J16+L16 -> 505.04
A17: Summe 05 - Fremdleistungen | E17: =Grundkalkulation!FN137 -> 0 | G17: =Nachtragskalkulation!FN137 -> 0 | J17: =E17+G17 -> 0 | L17: =J17*M17 -> 0 | M17: 0 | P17: =J17+L17 -> 0
A18: Externe Planung / Statik | E18: =Grundkalkulation!FN138 -> 0 | G18: =Nachtragskalkulation!FN138 -> 0 | J18: =E18+G18 -> 0 | L18: =J18*M18 -> 0 | M18: 0 | P18: =J18+L18 -> 0
A20: Summe 07 - Spesen / Übernachtungen | E20: =Grundkalkulation!FN140 -> 153.07294 | G20: =Nachtragskalkulation!FN141 -> 0 | J20: =E20+G20 -> 153.07294 | L20: =J20*M20 -> 0 | M20: 0 | P20: =J20+L20 -> 153.07294
A21: Bauwesen, Baustrom, Bauwasser | E21: =Grundkalkulation!FN141 -> 0 | G21: =Nachtragskalkulation!FN142 -> 0 | J21: =E21+G21 -> 0 | L21: =J21*M21 -> 0 | M21: 0 | P21: =J21+L21 -> 0
A22: Soetebeer Aufschlag | E22: =Grundkalkulation!FN142 -> 1020.9044 | G22: =Nachtragskalkulation!FN143 -> 0 | J22: =E22+G22 -> 1020.9044 | L22: =J22*M22 -> 0 | M22: 0 | P22: =J22+L22 -> 1020.9044
A23: Summe | E23: =SUM(E20:E22) -> 1173.9773 | G23: =SUM(G20:G22) -> 0 | J23: =E23+G23 -> 1173.9773 | L23: =J23*M23 -> 0 | P23: =SUM(P20:P22) -> 1173.9773
A25: Summe 08 - Fertigung | C25: =Grundkalkulation!D112 -> 41 | D25: =Grundkalkulation!FN145 -> 0 | E25: =C25*D25 -> 0 | F25: =Nachtragskalkulation!FN145 -> 0 | G25: =C25*F25 -> 0 | H25: =D25+F25 -> 0 | J25: =E25+G25 -> 0 | L25: =J25*M25 -> 0 | M25: 0 | N25: 42 | O25: =P25/N25 -> 0 | P25: =J25+L25 -> 0
A27: Summe 09 - Montage | C27: =Grundkalkulation!D121 -> 41 | D27: =Grundkalkulation!FN148 -> 68.48 | E27: =C27*D27 -> 2807.68 | F27: =Nachtragskalkulation!FN148 -> 0 | G27: =C27*F27 -> 0 | H27: =D27+F27 -> 68.48 | J27: =E27+G27 -> 2807.68 | L27: =J27*M27 -> 0 | M27: 0 | N27: 42 | O27: =P27/N27 -> 66.849524 | P27: =J27+L27 -> 2807.68
A29: Netto-Gesamtsumme | E29: =Grundkalkulation!FN150 -> 7586.9 | G29: =Nachtragskalkulation!FN150 -> 0 | J29: =(SUM(J13:J21)+J25+J27+J31) -> 7586.9 | L29: =SUM(L13:L27)+L31 -> 0 | M29: =L29/J29 -> 0 | P29: =J29+L29 -> 7586.9
A31: Riskio + Gewinn | E31: =E29-(SUM(E13:E21)+E25+E27) -> 1020.9791 | G31: =G29-(SUM(G13:G21)+G25+G27) -> 0 | J31: =E31+G31 -> 1020.9791 | L31: =J31*M31 -> 0 | M31: 0 | P31: =J31+L31 -> 1020.9791

Sheet EFB-Preis
A2: Einheitlicher Formblätter Preis (EFB - Preis)
A3: =[1]Grundkalkulation!A2 -> Angebot-Nr.: | B3: =Grundkalkulation!B2 -> 15-015407
A4: =[1]Grundkalkulation!A3 -> Projekt-Nr.: | B4: =Grundkalkulation!B3 -> 0
A5: =[1]Grundkalkulation!A4 -> Projektname: | B5: =Grundkalkulation!B4 -> Dose, BV. Gotenstraße, HH
A6: =[1]Grundkalkulation!A5 -> Gewerk: | B6: =Grundkalkulation!B5 -> Wartung
A7: =[1]Grundkalkulation!A6 -> Auftraggeber: | B7: =Grundkalkulation!B6 -> Paul Dose
A8: =[1]Grundkalkulation!A7 -> Datum: | B8: =Grundkalkulation!B7 -> 42144
A10: 1. | B10: Angaben über den Verrechnungslohn | C10: % | D10: € / h
C11: Zuschlag
A12: 1.1 | B12: Mittellohn | D12: 11.9
A14: 1.2 | B14: Lohnzusatzkosten | C14: 0.9 | D14: =D12*C14 -> 10.71
A16: 1.3 | B16: Lohnnebenkosten (Auslösungen, Fahrgelder, etc.) | D16: =IF(K16=0,0,K16/D41) -> 0 | I16: Spesen/Übern. | K16: =[2]Grundkalkulation!FN140 -> 0
A18: 1.4 | B18: Kalkulationslohn | D18: =SUM(D12:D16) -> 22.61
A20: 1.5 | B20: Zuschlag auf Kalkulationslohn | C20: =(D22-D18)/D18 -> 0.85758514 | D20: =D18*C20 -> 19.39
A22: 1.6 | B22: Verrechnungslohn | D22: 42
A26: 2. | B26: Zuschläge auf Einzelkosten der Teilleistungen = unmittelbare Herstellkosten
C27: Zuschläge in % auf
C28: Lohn | D28: Materialkosten | E28: Gerätekosten | F28: Nachunternehmer-leistungen | G28: sonstige Kosten
A29: 2.1 | B29: Baustellengemeinkosten | C29: 0.1 | D29: 0.06 | E29: 0.02 | F29: 0.03 | G29: 0.164638
A31: 2.2 | B31: Allgemeine Geschäftskosten | C31: =C20-C33-C29 -> 0.65758514 | D31: 0.1 | E31: 0.08 | F31: 0.1 | G31: 0.05
A33: 2.3 | B33: Wagnis und Gewinn | C33: 0.1 | D33: 0.05 | E33: 0.05 | F33: 0.05 | G33: 0.1
A35: 2.4 | B35: Gesamtzuschläge | C35: =SUM(C29:C33) -> 0.85758514 | D35: =SUM(D29:D33) -> 0.21 | E35: =SUM(E29:E33) -> 0.15 | F35: =SUM(F29:F33) -> 0.18 | G35: =SUM(G29:G33) -> 0.314638
A39: 3. | B39: Ermittlung der Angebotssumme
C40: Verrechnungslohn | D40: Gesamtstd. | G40: Angebotssumme
A41: 3.1 | B41: Eigene Lohnkosten | C41: =D22 -> 42 | D41: =Grundkalkulation!FN145+Grundkalkulation!FN148 -> 68.48 | G41: =C41*D41 -> 2876.16
C42: Einzelkosten | D42: Zuschläge
A43: 3.2 | B43: Materialkosten einschl. Hilfsstoffe | C43: =Grundkalkulation!FN133+Grundkalkulation!FN134+Grundkalkulation!FN135+Grundkalkulation!FN136 -> 3605.168 | D43: =D35 -> 0.21 | G43: =(C43*D43)+C43 -> 4362.2533
A45: 3.3 | B45: Gerätekosten | D45: =E35 -> 0.15 | G45: =(C45*D45)+C45 -> 0
A47: 3.4 | B47: Nachunternehmerleistungen | C47: =Grundkalkulation!FN137 -> 0 | D47: =F35 -> 0.18 | G47: =(C47*D47)+C47 -> 0
A49: 3.5 | B49: Sonstige Kosten (Externe Planung) | C49: =Grundkalkulation!FN141+Grundkalkulation!FN138 -> 0 | D49: =G35 -> 0.314638 | G49: =(C49*D49)+C49 -> 0
B51: Angebotssumme - netto | G51: =SUM(G41:G49) -> 7238.4133
I53: Netto-Gesamtsumme Budget
I54: =Kalkulationsextrakt!P29 -> 7586.9

Sheet Kündigungsabrechnung
A2: Kündigungsabrechnung
A3: =[1]Grundkalkulation!A2 -> Angebot-Nr.: | B3: =Grundkalkulation!B2 -> 15-015407
A4: =[1]Grundkalkulation!A3 -> Projekt-Nr.: | B4: =Grundkalkulation!B3 -> 0
A5: =[1]Grundkalkulation!A4 -> Projektname: | B5: =Grundkalkulation!B4 -> Dose, BV. Gotenstraße, HH | J5: Lohn | K5: ='EFB-Preis'!C35 -> 0.85758514
A6: =[1]Grundkalkulation!A5 -> Gewerk: | B6: =Grundkalkulation!B5 -> Wartung | J6: Material | K6: ='EFB-Preis'!D35 -> 0.21
A7: =[1]Grundkalkulation!A6 -> Auftraggeber: | B7: =Grundkalkulation!B6 -> Paul Dose | J7: Geräte | K7: ='EFB-Preis'!E35 -> 0.15
A8: =[1]Grundkalkulation!A7 -> Datum: | B8: =Grundkalkulation!B7 -> 42144 | J8: Nachunternehmerleistungen | K8: ='EFB-Preis'!F35 -> 0.18
J9: Sonstige Kosten | K9: ='EFB-Preis'!G35 -> 0.314638
A12: Pos. | B12: Bezeichnung | C12: positionsbezogene Kosten | E12: Zuschlag EKT | G12: Einheitspreis | I12: Menge | J12: GP
A13: =Grundkalkulation!E11 -> 001 | B13: =Grundkalkulation!E6 -> Wartung Ventotherm-Lüfter | C13: Lohn | D13: =Grundkalkulation!E144+Grundkalkulation!E147 -> 2807.68 | E13: =$K$5 -> 0.85758514 | F13: =D13*E13 -> 2407.8246
C14: Material | D14: =Grundkalkulation!E133+Grundkalkulation!E134+Grundkalkulation!E135+Grundkalkulation!E136 -> 3605.168 | E14: =$K$6 -> 0.21 | F14: =D14*E14 -> 757.08528
C15: Geräte | E15: =$K$7 -> 0.15 | F15: =D15*E15 -> 0
C16: Nachunternehmerleistungen | D16: =Grundkalkulation!E137 -> 0 | E16: =$K$8 -> 0.18 | F16: =D16*E16 -> 0
C17: Sonstige Kosten | D17: =Grundkalkulation!E141+Grundkalkulation!E138 -> 0 | E17: =$K$9 -> 0.314638 | F17: =D17*E17 -> 0
G18: =SUM(F13:F17) -> 3164.9099 | I18: 3 | J18: =G18*I18 -> 9494.7298
J21: =SUM(J13:J19) -> 9494.7298

Sheet Dateneingabe Promet
A2: Dateneingabe Promet
A3: =Grundkalkulation!A2 -> Angebot-Nr.: | B3: =Grundkalkulation!B2 -> 15-015407
A4: =Grundkalkulation!A3 -> Projekt-Nr.: | B4: 15-04630
A5: =Grundkalkulation!A4 -> Projektname: | B5: =Grundkalkulation!B4 -> Dose, BV. Gotenstraße, HH
A6: =Grundkalkulation!A5 -> Gewerk: | B6: =Grundkalkulation!B5 -> Wartung
A7: =Grundkalkulation!A6 -> Auftraggeber: | B7: =Grundkalkulation!B6 -> Paul Dose
A8: =Grundkalkulation!A7 -> Datum: | B8: =Grundkalkulation!B7 -> 42144
A9: =Grundkalkulation!A8 -> Kalkulation: | B9: =Grundkalkulation!B8 -> Dieter Suhrke
A11: Stand: | B11: =TODAY() -> 42153
A13: Budget-Kostenstelle | D13: Stunden-anzahl | E13: Budget
A14: 90000 | B14: Summe 01 - Profile | E14: =Kalkulationsextrakt!P13 -> 0 | G14: Eingabe in Pos. 000 unter Budgetierung | H14: bei Nachträgen: Budgetwerte enstprechend ändern
A15: 90005 | B15: Summe 02 - Beschläge | E15: =Kalkulationsextrakt!P14 -> 3100.128
A16: 90010 | B16: Summe 03 - Glas | E16: =Kalkulationsextrakt!P15 -> 0
A17: 90015 | B17: Summe 04 - Zusatzmaterial | E17: =Kalkulationsextrakt!P16 -> 505.04
A18: 90020 | B18: Summe 05 - Fremdleistungen | E18: =SUM(Kalkulationsextrakt!P17:P18) -> 0
A20: 90030 | B20: Summe 07 - Spesen / Übernachtungen | E20: =SUM(Kalkulationsextrakt!P20:P21) -> 153.07294
A22: 90050 | B22: Summe 08 - Fertigung | D22: =Kalkulationsextrakt!O25 -> 0 | E22: =Kalkulationsextrakt!P25 -> 0
A24: 90060 | B24: Summe 09 - Montage | D24: =Kalkulationsextrakt!O27 -> 66.849524 | E24: =Kalkulationsextrakt!P27 -> 2807.68
B26: Netto-Kosten | E26: =SUM(E14:E24) -> 6565.9209
B30: Netto-Gesamtsumme | E30: =Kalkulationsextrakt!P29 -> 7586.9
A32: Schritt 1. | B32: Eingabe in Auftrag unter Pos. 000 als Auftragswert
B34: bei Nachträgen:
A35: Schritt 2. | B35: Netto-Gesamtsumme entsprechend ändern

Sheet Fert.- und Mont.zeiten
A6: Fertigungs- und Montagezeiten
A7: =Grundkalkulation!A2 -> Angebot-Nr.: | B7: =Grundkalkulation!B2 -> 15-015407
A8: =Grundkalkulation!A3 -> Projekt-Nr.: | B8: =Grundkalkulation!B3 -> 0
A9: =Grundkalkulation!A4 -> Projektname: | B9: =Grundkalkulation!B4 -> Dose, BV. Gotenstraße, HH
A10: =Grundkalkulation!A5 -> Gewerk: | B10: =Grundkalkulation!B5 -> Wartung
F12: Datum: | G12: =Grundkalkulation!B7 -> 42144
F13: Kalkulation: | G13: =Grundkalkulation!B8 -> Dieter Suhrke
A15: Pos.: | B15: Anzahl / Menge | C15: Bezeichnung | D15: Fertigung einzeln | E15: Fertigung Gesamt | F15: Montage einzeln | G15: Montage gesamt
A17: =Grundkalkulation!E$11 -> 001 | B17: =Grundkalkulation!E$128 -> 1 | C17: =Grundkalkulation!E$6 -> Wartung Ventotherm-Lüfter | D17: =Grundkalkulation!E$113/42 -> 0 | E17: =B17*D17 -> 0 | F17: =Grundkalkulation!E$122/42 -> 66.849524 | G17: =B17*F17 -> 66.849524
A18: =Grundkalkulation!F$11 -> 2 | B18: =Grundkalkulation!F$128 -> 0 | C18: =Grundkalkulation!F$6 -> 0 | D18: =Grundkalkulation!F$113/42 -> 0 | E18: =B18*D18 -> 0 | F18: =Grundkalkulation!F$122/42 -> 0 | G18: =B18*F18 -> 0
A19: =Grundkalkulation!G$11 -> 3 | B19: =Grundkalkulation!G$128 -> 0 | C19: =Grundkalkulation!G$6 -> 0 | D19: =Grundkalkulation!G$113/42 -> 0 | E19: =B19*D19 -> 0 | F19: =Grundkalkulation!G$122/42 -> 0 | G19: =B19*F19 -> 0
A20: =Grundkalkulation!H$11 -> 4 | B20: =Grundkalkulation!H$128 -> 0 | C20: =Grundkalkulation!H$6 -> 0 | D20: =Grundkalkulation!H$113/42 -> 0 | E20: =B20*D20 -> 0 | F20: =Grundkalkulation!H$122/42 -> 0 | G20: =B20*F20 -> 0
A21: =Grundkalkulation!I$11 -> 5 | B21: =Grundkalkulation!I$128 -> 0 | C21: =Grundkalkulation!I$6 -> 0 | D21: =Grundkalkulation!I$113/42 -> 0 | E21: =B21*D21 -> 0 | F21: =Grundkalkulation!I$122/42 -> 0 | G21: =B21*F21 -> 0
A22: =Grundkalkulation!J$11 -> 6 | B22: =Grundkalkulation!J$128 -> 0 | C22: =Grundkalkulation!J$6 -> 0 | D22: =Grundkalkulation!J$113/42 -> 0 | E22: =B22*D22 -> 0 | F22: =Grundkalkulation!J$122/42 -> 0 | G22: =B22*F22 -> 0
A23: =Grundkalkulation!K$11 -> 7 | B23: =Grundkalkulation!K$128 -> 0 | C23: =Grundkalkulation!K$6 -> 0 | D23: =Grundkalkulation!K$113/42 -> 0 | E23: =B23*D23 -> 0 | F23: =Grundkalkulation!K$122/42 -> 0 | G23: =B23*F23 -> 0
A24: =Grundkalkulation!L$11 -> 8 | B24: =Grundkalkulation!L$128 -> 0 | C24: =Grundkalkulation!L$6 -> 0 | D24: =Grundkalkulation!L$113/42 -> 0 | E24: =B24*D24 -> 0 | F24: =Grundkalkulation!L$122/42 -> 0 | G24: =B24*F24 -> 0
A25: =Grundkalkulation!M$11 -> 9 | B25: =Grundkalkulation!M$128 -> 0 | C25: =Grundkalkulation!M$6 -> 0 | D25: =Grundkalkulation!M$113/42 -> 0 | E25: =B25*D25 -> 0 | F25: =Grundkalkulation!M$122/42 -> 0 | G25: =B25*F25 -> 0
A26: =Grundkalkulation!N$11 -> 10 | B26: =Grundkalkulation!N$128 -> 0 | C26: =Grundkalkulation!N$6 -> 0 | D26: =Grundkalkulation!N$113/42 -> 0 | E26: =B26*D26 -> 0 | F26: =Grundkalkulation!N$122/42 -> 0 | G26: =B26*F26 -> 0
A27: =Grundkalkulation!O$11 -> 11 | B27: =Grundkalkulation!O$128 -> 0 | C27: =Grundkalkulation!O$6 -> 0 | D27: =Grundkalkulation!O$113/42 -> 0 | E27: =B27*D27 -> 0 | F27: =Grundkalkulation!O$122/42 -> 0 | G27: =B27*F27 -> 0
A28: =Grundkalkulation!P$11 -> 12 | B28: =Grundkalkulation!P$128 -> 0 | C28: =Grundkalkulation!P$6 -> 0 | D28: =Grundkalkulation!P$113/42 -> 0 | E28: =B28*D28 -> 0 | F28: =Grundkalkulation!P$122/42 -> 0 | G28: =B28*F28 -> 0
A29: =Grundkalkulation!Q$11 -> 13 | B29: =Grundkalkulation!Q$128 -> 0 | C29: =Grundkalkulation!Q$6 -> 0 | D29: =Grundkalkulation!Q$113/42 -> 0 | E29: =B29*D29 -> 0 | F29: =Grundkalkulation!Q$122/42 -> 0 | G29: =B29*F29 -> 0
A30: =Grundkalkulation!R$11 -> 14 | B30: =Grundkalkulation!R$128 -> 0 | C30: =Grundkalkulation!R$6 -> 0 | D30: =Grundkalkulation!R$113/42 -> 0 | E30: =B30*D30 -> 0 | F30: =Grundkalkulation!R$122/42 -> 0 | G30: =B30*F30 -> 0
A31: =Grundkalkulation!S$11 -> 15 | B31: =Grundkalkulation!S$128 -> 0 | C31: =Grundkalkulation!S$6 -> 0 | D31: =Grundkalkulation!S$113/42 -> 0 | E31: =B31*D31 -> 0 | F31: =Grundkalkulation!S$122/42 -> 0 | G31: =B31*F31 -> 0
A32: =Grundkalkulation!T$11 -> 16 | B32: =Grundkalkulation!T$128 -> 0 | C32: =Grundkalkulation!T$6 -> 0 | D32: =Grundkalkulation!T$113/42 -> 0 | E32: =B32*D32 -> 0 | F32: =Grundkalkulation!T$122/42 -> 0 | G32: =B32*F32 -> 0
A33: =Grundkalkulation!U$11 -> 17 | B33: =Grundkalkulation!U$128 -> 0 | C33: =Grundkalkulation!U$6 -> 0 | D33: =Grundkalkulation!U$113/42 -> 0 | E33: =B33*D33 -> 0 | F33: =Grundkalkulation!U$122/42 -> 0 | G33: =B33*F33 -> 0
A34: =Grundkalkulation!V$11 -> 18 | B34: =Grundkalkulation!V$128 -> 0 | C34: =Grundkalkulation!V$6 -> 0 | D34: =Grundkalkulation!V$113/42 -> 0 | E34: =B34*D34 -> 0 | F34: =Grundkalkulation!V$122/42 -> 0 | G34: =B34*F34 -> 0
A35: =Grundkalkulation!W$11 -> 19 | B35: =Grundkalkulation!W$128 -> 0 | C35: =Grundkalkulation!W$6 -> 0 | D35: =Grundkalkulation!W$113/42 -> 0 | E35: =B35*D35 -> 0 | F35: =Grundkalkulation!W$122/42 -> 0 | G35: =B35*F35 -> 0
A36: =Grundkalkulation!X$11 -> 20 | B36: =Grundkalkulation!X$128 -> 0 | C36: =Grundkalkulation!X$6 -> 0 | D36: =Grundkalkulation!X$113/42 -> 0 | E36: =B36*D36 -> 0 | F36: =Grundkalkulation!X$122/42 -> 0 | G36: =B36*F36 -> 0
A37: =Grundkalkulation!Y$11 -> 21 | B37: =Grundkalkulation!Y$128 -> 0 | C37: =Grundkalkulation!Y$6 -> 0 | D37: =Grundkalkulation!Y$113/42 -> 0 | E37: =B37*D37 -> 0 | F37: =Grundkalkulation!Y$122/42 -> 0 | G37: =B37*F37 -> 0
A38: =Grundkalkulation!Z$11 -> 22 | B38: =Grundkalkulation!Z$128 -> 0 | C38: =Grundkalkulation!Z$6 -> 0 | D38: =Grundkalkulation!Z$113/42 -> 0 | E38: =B38*D38 -> 0 | F38: =Grundkalkulation!Z$122/42 -> 0 | G38: =B38*F38 -> 0
A39: =Grundkalkulation!AA$11 -> 23 | B39: =Grundkalkulation!AA$128 -> 0 | C39: =Grundkalkulation!AA$6 -> 0 | D39: =Grundkalkulation!AA$113/42 -> 0 | E39: =B39*D39 -> 0 | F39: =Grundkalkulation!AA$122/42 -> 0 | G39: =B39*F39 -> 0
A40: =Grundkalkulation!AB$11 -> 24 | B40: =Grundkalkulation!AB$128 -> 0 | C40: =Grundkalkulation!AB$6 -> 0 | D40: =Grundkalkulation!AB$113/42 -> 0 | E40: =B40*D40 -> 0 | F40: =Grundkalkulation!AB$122/42 -> 0 | G40: =B40*F40 -> 0
A41: =Grundkalkulation!AC$11 -> 25 | B41: =Grundkalkulation!AC$128 -> 0 | C41: =Grundkalkulation!AC$6 -> 0 | D41: =Grundkalkulation!AC$113/42 -> 0 | E41: =B41*D41 -> 0 | F41: =Grundkalkulation!AC$122/42 -> 0 | G41: =B41*F41 -> 0
A42: =Grundkalkulation!AD$11 -> 26 | B42: =Grundkalkulation!AD$128 -> 0 | C42: =Grundkalkulation!AD$6 -> 0 | D42: =Grundkalkulation!AD$113/42 -> 0 | E42: =B42*D42 -> 0 | F42: =Grundkalkulation!AD$122/42 -> 0 | G42: =B42*F42 -> 0
A43: =Grundkalkulation!AE$11 -> 27 | B43: =Grundkalkulation!AE$128 -> 0 | C43: =Grundkalkulation!AE$6 -> 0 | D43: =Grundkalkulation!AE$113/42 -> 0 | E43: =B43*D43 -> 0 | F43: =Grundkalkulation!AE$122/42 -> 0 | G43: =B43*F43 -> 0
A44: =Grundkalkulation!AF$11 -> 28 | B44: =Grundkalkulation!AF$128 -> 0 | C44: =Grundkalkulation!AF$6 -> 0 | D44: =Grundkalkulation!AF$113/42 -> 0 | E44: =B44*D44 -> 0 | F44: =Grundkalkulation!AF$122/42 -> 0 | G44: =B44*F44 -> 0
A45: =Grundkalkulation!AG$11 -> 29 | B45: =Grundkalkulation!AG$128 -> 0 | C45: =Grundkalkulation!AG$6 -> 0 | D45: =Grundkalkulation!AG$113/42 -> 0 | E45: =B45*D45 -> 0 | F45: =Grundkalkulation!AG$122/42 -> 0 | G45: =B45*F45 -> 0
A46: =Grundkalkulation!AH$11 -> 30 | B46: =Grundkalkulation!AH$128 -> 0 | C46: =Grundkalkulation!AH$6 -> 0 | D46: =Grundkalkulation!AH$113/42 -> 0 | E46: =B46*D46 -> 0 | F46: =Grundkalkulation!AH$122/42 -> 0 | G46: =B46*F46 -> 0
A47: =Grundkalkulation!AI$11 -> 31 | B47: =Grundkalkulation!AI$128 -> 0 | C47: =Grundkalkulation!AI$6 -> 0 | D47: =Grundkalkulation!AI$113/42 -> 0 | E47: =B47*D47 -> 0 | F47: =Grundkalkulation!AI$122/42 -> 0 | G47: =B47*F47 -> 0
A48: =Grundkalkulation!AJ$11 -> 32 | B48: =Grundkalkulation!AJ$128 -> 0 | C48: =Grundkalkulation!AJ$6 -> 0 | D48: =Grundkalkulation!AJ$113/42 -> 0 | E48: =B48*D48 -> 0 | F48: =Grundkalkulation!AJ$122/42 -> 0 | G48: =B48*F48 -> 0
...

Sheet Fert.- u. Mont.zeiten Nachtrag
A6: Fertigungs- und Montagezeiten
A7: =Grundkalkulation!A2 -> Angebot-Nr.: | B7: =Grundkalkulation!B2 -> 15-015407
A8: =Grundkalkulation!A3 -> Projekt-Nr.: | B8: =Grundkalkulation!B3 -> 0
A9: =Grundkalkulation!A4 -> Projektname: | B9: =Grundkalkulation!B4 -> Dose, BV. Gotenstraße, HH
A10: =Grundkalkulation!A5 -> Gewerk: | B10: =Grundkalkulation!B5 -> Wartung
F12: Datum: | G12: =Grundkalkulation!B7 -> 42144
F13: Kalkulation: | G13: =Grundkalkulation!B8 -> Dieter Suhrke
A15: Pos.: | B15: Anzahl / Menge | C15: Bezeichnung | D15: Fertigung einzeln | E15: Fertigung Gesamt | F15: Montage einzeln | G15: Montage gesamt
A17: =Nachtragskalkulation!E$11 -> 1 | B17: =Nachtragskalkulation!E$128 -> 0 | C17: =Nachtragskalkulation!E$6 -> 0 | D17: =Nachtragskalkulation!E$113/42 -> 0 | E17: =B17*D17 -> 0 | F17: =Nachtragskalkulation!E$122/42 -> 0 | G17: =B17*F17 -> 0
A18: =Nachtragskalkulation!F$11 -> 2 | B18: =Nachtragskalkulation!F$128 -> 0 | C18: =Nachtragskalkulation!F$6 -> 0 | D18: =Nachtragskalkulation!F$113/42 -> 0 | E18: =B18*D18 -> 0 | F18: =Nachtragskalkulation!F$122/42 -> 0 | G18: =B18*F18 -> 0
A19: =Nachtragskalkulation!G$11 -> 3 | B19: =Nachtragskalkulation!G$128 -> 0 | C19: =Nachtragskalkulation!G$6 -> 0 | D19: =Nachtragskalkulation!G$113/42 -> 0 | E19: =B19*D19 -> 0 | F19: =Nachtragskalkulation!G$122/42 -> 0 | G19: =B19*F19 -> 0
A20: =Nachtragskalkulation!H$11 -> 4 | B20: =Nachtragskalkulation!H$128 -> 0 | C20: =Nachtragskalkulation!H$6 -> 0 | D20: =Nachtragskalkulation!H$113/42 -> 0 | E20: =B20*D20 -> 0 | F20: =Nachtragskalkulation!H$122/42 -> 0 | G20: =B20*F20 -> 0
A21: =Nachtragskalkulation!I$11 -> 5 | B21: =Nachtragskalkulation!I$128 -> 0 | C21: =Nachtragskalkulation!I$6 -> 0 | D21: =Nachtragskalkulation!I$113/42 -> 0 | E21: =B21*D21 -> 0 | F21: =Nachtragskalkulation!I$122/42 -> 0 | G21: =B21*F21 -> 0
A22: =Nachtragskalkulation!J$11 -> 6 | B22: =Nachtragskalkulation!J$128 -> 0 | C22: =Nachtragskalkulation!J$6 -> 0 | D22: =Nachtragskalkulation!J$113/42 -> 0 | E22: =B22*D22 -> 0 | F22: =Nachtragskalkulation!J$122/42 -> 0 | G22: =B22*F22 -> 0
A23: =Nachtragskalkulation!K$11 -> 7 | B23: =Nachtragskalkulation!K$128 -> 0 | C23: =Nachtragskalkulation!K$6 -> 0 | D23: =Nachtragskalkulation!K$113/42 -> 0 | E23: =B23*D23 -> 0 | F23: =Nachtragskalkulation!K$122/42 -> 0 | G23: =B23*F23 -> 0
A24: =Nachtragskalkulation!L$11 -> 8 | B24: =Nachtragskalkulation!L$128 -> 0 | C24: =Nachtragskalkulation!L$6 -> 0 | D24: =Nachtragskalkulation!L$113/42 -> 0 | E24: =B24*D24 -> 0 | F24: =Nachtragskalkulation!L$122/42 -> 0 | G24: =B24*F24 -> 0
A25: =Nachtragskalkulation!M$11 -> 9 | B25: =Nachtragskalkulation!M$128 -> 0 | C25: =Nachtragskalkulation!M$6 -> 0 | D25: =Nachtragskalkulation!M$113/42 -> 0 | E25: =B25*D25 -> 0 | F25: =Nachtragskalkulation!M$122/42 -> 0 | G25: =B25*F25 -> 0
A26: =Nachtragskalkulation!N$11 -> 10 | B26: =Nachtragskalkulation!N$128 -> 0 | C26: =Nachtragskalkulation!N$6 -> 0 | D26: =Nachtragskalkulation!N$113/42 -> 0 | E26: =B26*D26 -> 0 | F26: =Nachtragskalkulation!N$122/42 -> 0 | G26: =B26*F26 -> 0
A27: =Nachtragskalkulation!O$11 -> 11 | B27: =Nachtragskalkulation!O$128 -> 0 | C27: =Nachtragskalkulation!O$6 -> 0 | D27: =Nachtragskalkulation!O$113/42 -> 0 | E27: =B27*D27 -> 0 | F27: =Nachtragskalkulation!O$122/42 -> 0 | G27: =B27*F27 -> 0
A28: =Nachtragskalkulation!P$11 -> 12 | B28: =Nachtragskalkulation!P$128 -> 0 | C28: =Nachtragskalkulation!P$6 -> 0 | D28: =Nachtragskalkulation!P$113/42 -> 0 | E28: =B28*D28 -> 0 | F28: =Nachtragskalkulation!P$122/42 -> 0 | G28: =B28*F28 -> 0
A29: =Nachtragskalkulation!Q$11 -> 13 | B29: =Nachtragskalkulation!Q$128 -> 0 | C29: =Nachtragskalkulation!Q$6 -> 0 | D29: =Nachtragskalkulation!Q$113/42 -> 0 | E29: =B29*D29 -> 0 | F29: =Nachtragskalkulation!Q$122/42 -> 0 | G29: =B29*F29 -> 0
A30: =Nachtragskalkulation!R$11 -> 14 | B30: =Nachtragskalkulation!R$128 -> 0 | C30: =Nachtragskalkulation!R$6 -> 0 | D30: =Nachtragskalkulation!R$113/42 -> 0 | E30: =B30*D30 -> 0 | F30: =Nachtragskalkulation!R$122/42 -> 0 | G30: =B30*F30 -> 0
A31: =Nachtragskalkulation!S$11 -> 15 | B31: =Nachtragskalkulation!S$128 -> 0 | C31: =Nachtragskalkulation!S$6 -> 0 | D31: =Nachtragskalkulation!S$113/42 -> 0 | E31: =B31*D31 -> 0 | F31: =Nachtragskalkulation!S$122/42 -> 0 | G31: =B31*F31 -> 0
A32: =Nachtragskalkulation!T$11 -> 16 | B32: =Nachtragskalkulation!T$128 -> 0 | C32: =Nachtragskalkulation!T$6 -> 0 | D32: =Nachtragskalkulation!T$113/42 -> 0 | E32: =B32*D32 -> 0 | F32: =Nachtragskalkulation!T$122/42 -> 0 | G32: =B32*F32 -> 0
A33: =Nachtragskalkulation!U$11 -> 17 | B33: =Nachtragskalkulation!U$128 -> 0 | C33: =Nachtragskalkulation!U$6 -> 0 | D33: =Nachtragskalkulation!U$113/42 -> 0 | E33: =B33*D33 -> 0 | F33: =Nachtragskalkulation!U$122/42 -> 0 | G33: =B33*F33 -> 0
A34: =Nachtragskalkulation!V$11 -> 18 | B34: =Nachtragskalkulation!V$128 -> 0 | C34: =Nachtragskalkulation!V$6 -> 0 | D34: =Nachtragskalkulation!V$113/42 -> 0 | E34: =B34*D34 -> 0 | F34: =Nachtragskalkulation!V$122/42 -> 0 | G34: =B34*F34 -> 0
A35: =Nachtragskalkulation!W$11 -> 19 | B35: =Nachtragskalkulation!W$128 -> 0 | C35: =Nachtragskalkulation!W$6 -> 0 | D35: =Nachtragskalkulation!W$113/42 -> 0 | E35: =B35*D35 -> 0 | F35: =Nachtragskalkulation!W$122/42 -> 0 | G35: =B35*F35 -> 0
A36: =Nachtragskalkulation!X$11 -> 20 | B36: =Nachtragskalkulation!X$128 -> 0 | C36: =Nachtragskalkulation!X$6 -> 0 | D36: =Nachtragskalkulation!X$113/42 -> 0 | E36: =B36*D36 -> 0 | F36: =Nachtragskalkulation!X$122/42 -> 0 | G36: =B36*F36 -> 0
A37: =Nachtragskalkulation!Y$11 -> 21 | B37: =Nachtragskalkulation!Y$128 -> 0 | C37: =Nachtragskalkulation!Y$6 -> 0 | D37: =Nachtragskalkulation!Y$113/42 -> 0 | E37: =B37*D37 -> 0 | F37: =Nachtragskalkulation!Y$122/42 -> 0 | G37: =B37*F37 -> 0
A38: =Nachtragskalkulation!Z$11 -> 22 | B38: =Nachtragskalkulation!Z$128 -> 0 | C38: =Nachtragskalkulation!Z$6 -> 0 | D38: =Nachtragskalkulation!Z$113/42 -> 0 | E38: =B38*D38 -> 0 | F38: =Nachtragskalkulation!Z$122/42 -> 0 | G38: =B38*F38 -> 0
A39: =Nachtragskalkulation!AA$11 -> 23 | B39: =Nachtragskalkulation!AA$128 -> 0 | C39: =Nachtragskalkulation!AA$6 -> 0 | D39: =Nachtragskalkulation!AA$113/42 -> 0 | E39: =B39*D39 -> 0 | F39: =Nachtragskalkulation!AA$122/42 -> 0 | G39: =B39*F39 -> 0
A40: =Nachtragskalkulation!AB$11 -> 24 | B40: =Nachtragskalkulation!AB$128 -> 0 | C40: =Nachtragskalkulation!AB$6 -> 0 | D40: =Nachtragskalkulation!AB$113/42 -> 0 | E40: =B40*D40 -> 0 | F40: =Nachtragskalkulation!AB$122/42 -> 0 | G40: =B40*F40 -> 0
A41: =Nachtragskalkulation!AC$11 -> 25 | B41: =Nachtragskalkulation!AC$128 -> 0 | C41: =Nachtragskalkulation!AC$6 -> 0 | D41: =Nachtragskalkulation!AC$113/42 -> 0 | E41: =B41*D41 -> 0 | F41: =Nachtragskalkulation!AC$122/42 -> 0 | G41: =B41*F41 -> 0
A42: =Nachtragskalkulation!AD$11 -> 26 | B42: =Nachtragskalkulation!AD$128 -> 0 | C42: =Nachtragskalkulation!AD$6 -> 0 | D42: =Nachtragskalkulation!AD$113/42 -> 0 | E42: =B42*D42 -> 0 | F42: =Nachtragskalkulation!AD$122/42 -> 0 | G42: =B42*F42 -> 0
A43: =Nachtragskalkulation!AE$11 -> 27 | B43: =Nachtragskalkulation!AE$128 -> 0 | C43: =Nachtragskalkulation!AE$6 -> 0 | D43: =Nachtragskalkulation!AE$113/42 -> 0 | E43: =B43*D43 -> 0 | F43: =Nachtragskalkulation!AE$122/42 -> 0 | G43: =B43*F43 -> 0
A44: =Nachtragskalkulation!AF$11 -> 28 | B44: =Nachtragskalkulation!AF$128 -> 0 | C44: =Nachtragskalkulation!AF$6 -> 0 | D44: =Nachtragskalkulation!AF$113/42 -> 0 | E44: =B44*D44 -> 0 | F44: =Nachtragskalkulation!AF$122/42 -> 0 | G44: =B44*F44 -> 0
A45: =Nachtragskalkulation!AG$11 -> 29 | B45: =Nachtragskalkulation!AG$128 -> 0 | C45: =Nachtragskalkulation!AG$6 -> 0 | D45: =Nachtragskalkulation!AG$113/42 -> 0 | E45: =B45*D45 -> 0 | F45: =Nachtragskalkulation!AG$122/42 -> 0 | G45: =B45*F45 -> 0
A46: =Nachtragskalkulation!AH$11 -> 30 | B46: =Nachtragskalkulation!AH$128 -> 0 | C46: =Nachtragskalkulation!AH$6 -> 0 | D46: =Nachtragskalkulation!AH$113/42 -> 0 | E46: =B46*D46 -> 0 | F46: =Nachtragskalkulation!AH$122/42 -> 0 | G46: =B46*F46 -> 0
A47: =Nachtragskalkulation!AI$11 -> 31 | B47: =Nachtragskalkulation!AI$128 -> 0 | C47: =Nachtragskalkulation!AI$6 -> 0 | D47: =Nachtragskalkulation!AI$113/42 -> 0 | E47: =B47*D47 -> 0 | F47: =Nachtragskalkulation!AI$122/42 -> 0 | G47: =B47*F47 -> 0
A48: =Nachtragskalkulation!AJ$11 -> 32 | B48: =Nachtragskalkulation!AJ$128 -> 0 | C48: =Nachtragskalkulation!AJ$6 -> 0 | D48: =Nachtragskalkulation!AJ$113/42 -> 0 | E48: =B48*D48 -> 0 | F48: =Nachtragskalkulation!AJ$122/42 -> 0 | G48: =B48*F48 -> 0
...
